BEGIN:VCALENDAR
VERSION:2.0
PRODID:-//eventon.com NONSGML v1.0//EN
CALSCALE:GREGORIAN
METHOD:PUBLISH
BEGIN:VEVENT
UID:69e60f8706d0c
DTSTAMP:20260420T113535Z
DTSTART:20240814T210000Z
DTEND:20240814T230000Z
LOCATION:Norton Reservoir Trailhead
SUMMARY:After Work Hike: Pickem Mountain Loop
DESCRIPTION:Join Virginia Master Naturalists and hike the Pickem Mountain l
 oop in Flag Rock Recreation Area. Distance/Difficulty: 5 miles/Moderate. Co
 st: Free. Registration required. This event is part of the High Knob Outdoo
 r Fest. Contact Kara Dotten\,  karabethdotten@gmail.com\,  to register.  M
 ore Info: www.highknoboutdoorfest.com\nhttps://explorenortonva.com/events/a
 fter-work-hike-pickem-mountain-loop/
URL:https://explorenortonva.com/events/after-work-hike-pickem-mountain-loop/
END:VEVENT
END:VCALENDAR