BEGIN:VCALENDAR
VERSION:2.0
PRODID:-//eventon.com NONSGML v1.0//EN
CALSCALE:GREGORIAN
METHOD:PUBLISH
BEGIN:VEVENT
UID:69eb3a3502e4e
DTSTAMP:20260424T093901Z
DTSTART:20240816T220000Z
DTEND:20240817T035900Z
LOCATION:Shelter Trailhead
SUMMARY:Kids Nature Scavenger Hunt
DESCRIPTION:Discover the wild and wonderful world of Flag Rock on a Kids Na
 ture Scavenger Hunt. Learn facts about the region&#8217;s animals\,  plants
 \,  culture\,  and more. Open to children ages 4-12. Children must be accom
 panied by an adult. Participants will receive certificates and stickers. Th
 is event will be held during the[..]\nhttps://explorenortonva.com/events/ki
 ds-nature-scavenger-hunt/
URL:https://explorenortonva.com/events/kids-nature-scavenger-hunt/
END:VEVENT
END:VCALENDAR