BEGIN:VCALENDAR
VERSION:2.0
PRODID:-//eventon.com NONSGML v1.0//EN
CALSCALE:GREGORIAN
METHOD:PUBLISH
BEGIN:VEVENT
UID:69e9e5461e65c
DTSTAMP:20260423T092422Z
DTSTART:20250101T150000Z
DTEND:20250101T180000Z
LOCATION:Norton Reservoir Trailhead
SUMMARY:First Day Hike: Pickem Mountain Loop
DESCRIPTION:Join us for our First Day Hike on the Pickem Mountain Loop in F
 lag Rock Recreation Area. Distance/Difficulty: 5 miles\,  Moderate. Cost: F
 ree. Registration is required. Wear sturdy shoes and weather-appropriate cl
 othing. Bring water and a snack. Get registered! Contact Katie Dunn\,  kati
 ed@nortonva.org or (276) 679-3103.\nhttps://explorenortonva.com/events/firs
 t-day-hike-pickem-mountain-loop/
URL:https://explorenortonva.com/events/first-day-hike-pickem-mountain-loop/
END:VEVENT
END:VCALENDAR