BEGIN:VCALENDAR
VERSION:2.0
PRODID:-//eventon.com NONSGML v1.0//EN
CALSCALE:GREGORIAN
METHOD:PUBLISH
BEGIN:VEVENT
UID:69eb35185c161
DTSTAMP:20260424T091712Z
DTSTART:20260410T220000Z
DTEND:20260410T230000Z
LOCATION:High Knob Destination Center 1147 Laurel Avenue SW
SUMMARY:Creepy Cryptids: Monsters of Central Appalachia
DESCRIPTION:Monsters from the mountains of Appalachia have become very popu
 lar in modern pop-culture\,  though many of the stories have become dramati
 zed over the decades. Many of these “monsters” often have real world ex
 planations that offer insight into the changing culture of the region. Join
  Ranger Aidan from Southwest Virginia Museum[..]\nhttps://explorenortonva.c
 om/events/creepy-cryptids-monsters-of-central-appalachia/
URL:https://explorenortonva.com/events/creepy-cryptids-monsters-of-central-appalachia/
END:VEVENT
END:VCALENDAR