BEGIN:VCALENDAR
VERSION:2.0
PRODID:-//eventon.com NONSGML v1.0//EN
CALSCALE:GREGORIAN
METHOD:PUBLISH
BEGIN:VEVENT
UID:69e9e62324258
DTSTAMP:20260423T092803Z
DTSTART:20260314T150000Z
DTEND:20260314T163000Z
LOCATION:High Knob Destination Center 1147 Laurel Avenue SW
SUMMARY:Rooted In The Mountains: Forest Botanicals in Appalachian History\,  Culture\,  and Community
DESCRIPTION:Join us for the first event in the Forest Botanicals Region Liv
 ing Monument&#8217;s Community Learning Series (made possible by Virginia H
 umanities and Virginia Cooperative Extension)! Ramp festivals\,  ginseng di
 gging\,  herbalism\,  and more! In this panel\,  folklorist Mary Hufford an
 d sociologist Shannon Bell will discuss historical and contemporary traditi
 ons\,  lifeways\,  and[..]\nhttps://explorenortonva.com/events/rooted-in-th
 e-mountains-forest-botanicals-in-appalachian-history-culture-and-community/
URL:https://explorenortonva.com/events/rooted-in-the-mountains-forest-botanicals-in-appalachian-history-culture-and-community/
END:VEVENT
END:VCALENDAR