BEGIN:VCALENDAR
VERSION:2.0
PRODID:-//eventon.com NONSGML v1.0//EN
CALSCALE:GREGORIAN
METHOD:PUBLISH
BEGIN:VEVENT
UID:69e5f271af2a6
DTSTAMP:20260420T093129Z
DTSTART:20250211T230000Z
DTEND:20250313T230000Z
LOCATION:Norton Elementary School Gym 205 Park Avenue NE
SUMMARY:Youth Basketball League
DESCRIPTION:Join Norton Parks and Recreation for a Youth Basketball League.
  Open to boys and girls grades K-1 (Norton and non-Norton residents). Leagu
 e is instructional and fun. Cost: $10 per player. Registration fee must be 
 paid before registration deadline. Games and practices held 6-7 p.m. Tuesda
 ys and Thursdays at Norton Elementary[..]\nhttps://explorenortonva.com/even
 ts/youth-basketball-league/
URL:https://explorenortonva.com/events/youth-basketball-league/
END:VEVENT
END:VCALENDAR