BEGIN:VCALENDAR
VERSION:2.0
PRODID:-//eventon.com NONSGML v1.0//EN
CALSCALE:GREGORIAN
METHOD:PUBLISH
BEGIN:VEVENT
UID:69e5f2a80e9f5
DTSTAMP:20260420T093224Z
DTSTART:20240624T130000Z
DTEND:20240626T180000Z
LOCATION:Norton Elementary School Gym 205 Park Avenue NE
SUMMARY:Cheerleading Camp
DESCRIPTION:Master valuable skills\,  including motions\,  cheers\,  and st
 unting at Cheerleading Camp! Camp for grades 1-3 will be held from 9-11 a.m
 . Camp for grades 4-7 will be held from 12-2 p.m. Instructors: Laura Campbe
 ll and Amanda Lemley. Location: Norton Elementary School gym. Cost: Norton 
 residents\,  Free. Non-residents\,  $30. Contact: Rebecca[..]\nhttps://expl
 orenortonva.com/events/cheerleading-camp/
URL:https://explorenortonva.com/events/cheerleading-camp/
END:VEVENT
END:VCALENDAR