BEGIN:VCALENDAR
VERSION:2.0
PRODID:-//eventon.com NONSGML v1.0//EN
CALSCALE:GREGORIAN
METHOD:PUBLISH
BEGIN:VEVENT
UID:69e6080d9fb04
DTSTAMP:20260420T110341Z
DTSTART:20240706T130000Z
DTEND:20240706T160000Z
LOCATION:Clinch River State Park
SUMMARY:Group Hike: Clinch River State Park
DESCRIPTION:Join us for a 3.3-mile hike at Clinch River State Park. Difficu
 lty: Easy to Moderate. Cost: Free. Registration required. Wear sturdy shoes
  and weather-appropriate clothing. Bring water and a snack. Get Registered:
  Contact Katie Dunn\,  katied@nortonva.org or (276) 679-3103\nhttps://explo
 renortonva.com/events/group-hike-clinch-river-state-park/
URL:https://explorenortonva.com/events/group-hike-clinch-river-state-park/
END:VEVENT
END:VCALENDAR